BEGIN:VCALENDAR
VERSION:2.0
PRODID:-//Door County Beekeepers Club - ECPv4.9.6//NONSGML v1.0//EN
CALSCALE:GREGORIAN
METHOD:PUBLISH
X-WR-CALNAME:Door County Beekeepers Club
X-ORIGINAL-URL:https://doorcountybeekeepersclub.org
X-WR-CALDESC:Events for Door County Beekeepers Club
BEGIN:VTIMEZONE
TZID:"America/Chicago"
BEGIN:DAYLIGHT
TZOFFSETFROM:-0600
TZOFFSETTO:-0500
TZNAME:CDT
DTSTART:20230312T080000
END:DAYLIGHT
BEGIN:STANDARD
TZOFFSETFROM:-0500
TZOFFSETTO:-0600
TZNAME:CST
DTSTART:20231105T070000
END:STANDARD
END:VTIMEZONE
BEGIN:VEVENT
DTSTART;TZID="America/Chicago":20230204T080000
DTEND;TZID="America/Chicago":20230204T120000
DTSTAMP:20260420T024002
CREATED:20230130T035054Z
LAST-MODIFIED:20230130T035054Z
UID:792-1675497600-1675512000@doorcountybeekeepersclub.org
SUMMARY:Intro to Beekeeping - February 4th\, 2023
DESCRIPTION:The Door County Beekeepers Club is hosting an informative\, interactive workshop on Feb. 4\, 8 am – 12 pm\, to teach participants about basic equipment\, tools and techniques; how to choose the best hive location; how to obtain and install bees; and what to expect during the first year of beekeeping. All participants will receive half off a club membership. \nThe workshop will be held at Crossroads at Big Creek\, 2041 Michigan St. in Sturgeon Bay. To register\, email contact@doorcountybeekeepersclub.org. The $25 workshop fee partly supports restoration and pollinator plantings at Crossroads. \n
URL:https://doorcountybeekeepersclub.org/event/intro-to-beekeeping-february-4th-2023/
LOCATION:Crossroads at Big Creek\, 2014 Michigan Street\, Sturgeon Bay\, WI\, 54235\, United States
CATEGORIES:Beekeeping
ATTACH;FMTTYPE=image/jpeg:https://doorcountybeekeepersclub.org/site/wp-content/uploads/beekeeper-with-frame-of-bees.jpeg
END:VEVENT
END:VCALENDAR