BEGIN:VCALENDAR
VERSION:2.0
PRODID:-//Door County Beekeepers Club - ECPv4.9.6//NONSGML v1.0//EN
CALSCALE:GREGORIAN
METHOD:PUBLISH
X-WR-CALNAME:Door County Beekeepers Club
X-ORIGINAL-URL:https://doorcountybeekeepersclub.org
X-WR-CALDESC:Events for Door County Beekeepers Club
BEGIN:VTIMEZONE
TZID:"America/Chicago"
BEGIN:DAYLIGHT
TZOFFSETFROM:-0600
TZOFFSETTO:-0500
TZNAME:CDT
DTSTART:20240310T080000
END:DAYLIGHT
BEGIN:STANDARD
TZOFFSETFROM:-0500
TZOFFSETTO:-0600
TZNAME:CST
DTSTART:20241103T070000
END:STANDARD
END:VTIMEZONE
BEGIN:VEVENT
DTSTART;VALUE=DATE:20240713
DTEND;VALUE=DATE:20240714
DTSTAMP:20260419T195640
CREATED:20240517T164837Z
LAST-MODIFIED:20240517T165933Z
UID:934-1720828800-1720915199@doorcountybeekeepersclub.org
SUMMARY:Hands-on Apiary Workshop on Washington Island - July 13
DESCRIPTION:Cost: $20\nLimited Availability: 12 persons maximum \nAttention Door CountyBeekeepers! \nYou are invited to attend a hands-on apiary workshop on Washington Island at Sweet Mountain Farms on Saturday\, July 13. The itinerary for the day and the registration form are linked below. Read through the itinerary and check out the website\, sweetmountainfarm.com\, and contact DCBC with any questions or concerns.  \nPlease fill out the registration form and mail it with your payment to the address on the form to secure your spot!\n \nSweet Mountain Farm Field Trip 2024\n \nRegistration Form \n
URL:https://doorcountybeekeepersclub.org/event/hands-on-apiary-workshop-on-washington-island-july-13/
LOCATION:Sweet Mountain Farm\, 1402 Mountain Road\, Washington Island\, WI\, 54246\, United States
CATEGORIES:Club Event
ATTACH;FMTTYPE=image/jpeg:https://doorcountybeekeepersclub.org/site/wp-content/uploads/Sweet-Mountain-Farm-Bee-Yard-70br.jpg
END:VEVENT
END:VCALENDAR