BEGIN:VCALENDAR
VERSION:2.0
PRODID:-//Door County Beekeepers Club - ECPv4.9.6//NONSGML v1.0//EN
CALSCALE:GREGORIAN
METHOD:PUBLISH
X-WR-CALNAME:Door County Beekeepers Club
X-ORIGINAL-URL:https://doorcountybeekeepersclub.org
X-WR-CALDESC:Events for Door County Beekeepers Club
BEGIN:VTIMEZONE
TZID:"America/Chicago"
BEGIN:DAYLIGHT
TZOFFSETFROM:-0600
TZOFFSETTO:-0500
TZNAME:CDT
DTSTART:20240310T080000
END:DAYLIGHT
BEGIN:STANDARD
TZOFFSETFROM:-0500
TZOFFSETTO:-0600
TZNAME:CST
DTSTART:20241103T070000
END:STANDARD
END:VTIMEZONE
BEGIN:VEVENT
DTSTART;TZID="America/Chicago":20240917T183000
DTEND;TZID="America/Chicago":20240917T183000
DTSTAMP:20260420T024359
CREATED:20231229T181702Z
LAST-MODIFIED:20240913T165405Z
UID:888-1726597800-1726597800@doorcountybeekeepersclub.org
SUMMARY:DCBC Meeting: Wintering Bees and Storing Equipment - September 17
DESCRIPTION:Topic: Wintering bees and storing equipment\nPresenter: Peggy De Santo (virtual presentation) \nPeggy will present the Condensing Hive vs.Vented Hive and an introduction to the Hive Hugger Winterization System. Peggy is a co-founder of the Hive Hugger winterization system. This insulation system is founded in science and is unique in that it is based on the condensing hive approach. The product won the 2023 American Beekeeping Federation Award for Best Innovation and was awarded the University of Minnesota SARE Grant. Peggy serves on the Board of Directors of the U of M Hobbyist Beekeepers Association. She presented at the Wisconsin Honey Producers Conference in 2023 and will be presenting at the upcoming Midwest Honeybee Expo and Iowa Honey Producers Conference. \n
URL:https://doorcountybeekeepersclub.org/event/dcbc-meeting-wintering-bees-and-storing-equipment-september-17/
LOCATION:Crossroads at Big Creek\, 2014 Michigan Street\, Sturgeon Bay\, WI\, 54235\, United States
CATEGORIES:Club Meeting
ATTACH;FMTTYPE=image/jpeg:https://doorcountybeekeepersclub.org/site/wp-content/uploads/DCBC-Meeting.jpg
END:VEVENT
END:VCALENDAR