BEGIN:VCALENDAR
VERSION:2.0
PRODID:-//Door County Beekeepers Club - ECPv4.9.6//NONSGML v1.0//EN
CALSCALE:GREGORIAN
METHOD:PUBLISH
X-WR-CALNAME:Door County Beekeepers Club
X-ORIGINAL-URL:https://doorcountybeekeepersclub.org
X-WR-CALDESC:Events for Door County Beekeepers Club
BEGIN:VTIMEZONE
TZID:"America/Chicago"
BEGIN:DAYLIGHT
TZOFFSETFROM:-0600
TZOFFSETTO:-0500
TZNAME:CDT
DTSTART:20220313T080000
END:DAYLIGHT
BEGIN:STANDARD
TZOFFSETFROM:-0500
TZOFFSETTO:-0600
TZNAME:CST
DTSTART:20221106T070000
END:STANDARD
END:VTIMEZONE
BEGIN:VEVENT
DTSTART;TZID="America/Chicago":20220524T183000
DTEND;TZID="America/Chicago":20220524T183000
DTSTAMP:20260422T153719
CREATED:20220408T214949Z
LAST-MODIFIED:20220521T201226Z
UID:731-1653417000-1653417000@doorcountybeekeepersclub.org
SUMMARY:DCBC Meeting: State Bee Inspector and Site Visits – May 24
DESCRIPTION:5:30 pm Hive Dive at Gretchen Schmelzer’s hives\, located at 1043 Louisiana Street\, Sturgeon Bay.\n6:00 pm Meeting At Crossroads. \nState Bee Inspector presentation: “Hive Management in Wisconsin”\nSign-up for Hive Inspections \n
URL:https://doorcountybeekeepersclub.org/event/dcbc-meeting-state-bee-inspector-and-site-visits-may-24/
LOCATION:Crossroads at Big Creek\, 2014 Michigan Street\, Sturgeon Bay\, WI\, 54235\, United States
CATEGORIES:Club Meeting
ATTACH;FMTTYPE=image/jpeg:https://doorcountybeekeepersclub.org/site/wp-content/uploads/DCBC-meeting-event.jpg
END:VEVENT
END:VCALENDAR