BEGIN:VCALENDAR
VERSION:2.0
PRODID:-//Door County Beekeepers Club - ECPv4.9.6//NONSGML v1.0//EN
CALSCALE:GREGORIAN
METHOD:PUBLISH
X-WR-CALNAME:Door County Beekeepers Club
X-ORIGINAL-URL:https://doorcountybeekeepersclub.org
X-WR-CALDESC:Events for Door County Beekeepers Club
BEGIN:VTIMEZONE
TZID:"America/Chicago"
BEGIN:DAYLIGHT
TZOFFSETFROM:-0600
TZOFFSETTO:-0500
TZNAME:CDT
DTSTART:20220313T080000
END:DAYLIGHT
BEGIN:STANDARD
TZOFFSETFROM:-0500
TZOFFSETTO:-0600
TZNAME:CST
DTSTART:20221106T070000
END:STANDARD
END:VTIMEZONE
BEGIN:VEVENT
DTSTART;TZID="America/Chicago":20221115T183000
DTEND;TZID="America/Chicago":20221115T183000
DTSTAMP:20260420T072215
CREATED:20220408T215823Z
LAST-MODIFIED:20221104T224220Z
UID:743-1668537000-1668537000@doorcountybeekeepersclub.org
SUMMARY:DCBC Meeting: Mead; Making\, Tasting\, and Pairing – Nov 15
DESCRIPTION:Program Topic: Making Mead with the Marquardt’s. Includes Tasting & Pairing Mead with Cheese & Chocolate.\nPresenters: Dennis & Lynn Marquardt \n
URL:https://doorcountybeekeepersclub.org/event/dcbc-meeting-mead-making-tasting-and-pairing-nov-15/
LOCATION:Crossroads at Big Creek\, 2014 Michigan Street\, Sturgeon Bay\, WI\, 54235\, United States
CATEGORIES:Club Meeting
ATTACH;FMTTYPE=image/jpeg:https://doorcountybeekeepersclub.org/site/wp-content/uploads/DCBC-meeting-event.jpg
END:VEVENT
END:VCALENDAR