BEGIN:VCALENDAR
VERSION:2.0
PRODID:-//Door County Beekeepers Club - ECPv4.9.6//NONSGML v1.0//EN
CALSCALE:GREGORIAN
METHOD:PUBLISH
X-WR-CALNAME:Door County Beekeepers Club
X-ORIGINAL-URL:https://doorcountybeekeepersclub.org
X-WR-CALDESC:Events for Door County Beekeepers Club
BEGIN:VTIMEZONE
TZID:"America/Chicago"
BEGIN:DAYLIGHT
TZOFFSETFROM:-0600
TZOFFSETTO:-0500
TZNAME:CDT
DTSTART:20230312T080000
END:DAYLIGHT
BEGIN:STANDARD
TZOFFSETFROM:-0500
TZOFFSETTO:-0600
TZNAME:CST
DTSTART:20231105T070000
END:STANDARD
END:VTIMEZONE
BEGIN:VEVENT
DTSTART;TZID="America/Chicago":20230718T183000
DTEND;TZID="America/Chicago":20230718T183000
DTSTAMP:20260419T163840
CREATED:20230321T134748Z
LAST-MODIFIED:20230707T181134Z
UID:810-1689705000-1689705000@doorcountybeekeepersclub.org
SUMMARY:DCBC Meeting: Honey Harvesting and Equipment - July 18th
DESCRIPTION:Topic: Honey Harvesting and Equipment + Interactive Hive Dive! \nDuring the June 10th hive splitting field demonstration\, we had a number of comments from members asking for more hands-on demonstration presentations. That was nice to hear\, so were going to do it again in July. This month\, we will have an abbreviated meeting to showcase club equipment that is available for you to use and then talk about the Community Honey Harvest on August 19th. Following that\, we are going to walk back to the club hives and offer two demonstrations. The first will be a honey harvesting demonstration from the Flow Hive. Then we will demonstrate how to treat for Varroa Mites using the Oxalic Acid vaporizer. Please be sure to bring your bee suit! \nIf you don’t have a suit\, we will have club suits available for you to use. \n6:30 pm: Showcase of Club Equipment \nOver the past few years\, the club has acquired quite a bit of equipment for members to use. We have adult and child bee suits\, honey extractors (3)\, honey filtering screens\, honey pails\, Oxalic Acid vaporizers (2)\, and a number of other items. This year we purchased a 4-frame electric extractor. All these items are available for members use at any time. \nDiscussion and explanation on “Community Honey Harvest Event” – August 19th \nThis will be the fourth year we have hosted the event at Crossroads. It’s a wonderful family experience to learn about honeybees\, products\, honey harvesting\, tasting opportunities\, and children’s activities. We’ll briefly explain the events for this year. Additional help from members is still needed and would be much appreciated. \n7:00 pm: Field Demonstrations at Club Hives \nMany members have not had the opportunity to see honey directly harvested from a Flowhive. We will tap the club hive and  show you how easy it is to harvest\, with no filtering required. Following that\, we want to show you how to treat for mites using one of our Oxalic Acid vaporizers. \n
URL:https://doorcountybeekeepersclub.org/event/dcbc-meeting-honey-harvesting-and-equipment-july-18th/
LOCATION:Crossroads at Big Creek\, 2014 Michigan Street\, Sturgeon Bay\, WI\, 54235\, United States
CATEGORIES:Club Meeting
ATTACH;FMTTYPE=image/jpeg:https://doorcountybeekeepersclub.org/site/wp-content/uploads/DCBC-meeting-event.jpg
END:VEVENT
END:VCALENDAR