BEGIN:VCALENDAR
VERSION:2.0
PRODID:-//Door County Beekeepers Club - ECPv4.9.6//NONSGML v1.0//EN
CALSCALE:GREGORIAN
METHOD:PUBLISH
X-WR-CALNAME:Door County Beekeepers Club
X-ORIGINAL-URL:https://doorcountybeekeepersclub.org
X-WR-CALDESC:Events for Door County Beekeepers Club
BEGIN:VTIMEZONE
TZID:"America/Chicago"
BEGIN:DAYLIGHT
TZOFFSETFROM:-0600
TZOFFSETTO:-0500
TZNAME:CDT
DTSTART:20240310T080000
END:DAYLIGHT
BEGIN:STANDARD
TZOFFSETFROM:-0500
TZOFFSETTO:-0600
TZNAME:CST
DTSTART:20241103T070000
END:STANDARD
END:VTIMEZONE
BEGIN:VEVENT
DTSTART;TZID="America/Chicago":20240716T183000
DTEND;TZID="America/Chicago":20240716T183000
DTSTAMP:20260419T213317
CREATED:20231229T181054Z
LAST-MODIFIED:20240706T155559Z
UID:884-1721154600-1721154600@doorcountybeekeepersclub.org
SUMMARY:DCBC Meeting: Honey Harvesting and Equipment - July 16
DESCRIPTION:Topic: Interactive honey harvesting and equipment. Demonstration of refractometer and Oxalic Acid treatment.\nPresenter: Mark Lentz \nMark Lentz will present one of our core education programs on “Honey Harvesting”. Demonstrations of harvesting honey from Langstroth hive frames and how honey is harvested from a Flow hive. Mark will also show how a refractometer is used to check your honey water content before harvesting. We will also discuss the importance of safety measures required (PPE’s) when using a Oxalic Acid vaporizer. \n
URL:https://doorcountybeekeepersclub.org/event/dcbc-meeting-honey-harvesting-and-equipment-july-16/
LOCATION:Crossroads at Big Creek\, 2014 Michigan Street\, Sturgeon Bay\, WI\, 54235\, United States
CATEGORIES:Club Meeting
ATTACH;FMTTYPE=image/jpeg:https://doorcountybeekeepersclub.org/site/wp-content/uploads/DCBC-Meeting.jpg
END:VEVENT
END:VCALENDAR