BEGIN:VCALENDAR
VERSION:2.0
PRODID:-//Door County Beekeepers Club - ECPv4.9.6//NONSGML v1.0//EN
CALSCALE:GREGORIAN
METHOD:PUBLISH
X-WR-CALNAME:Door County Beekeepers Club
X-ORIGINAL-URL:https://doorcountybeekeepersclub.org
X-WR-CALDESC:Events for Door County Beekeepers Club
BEGIN:VTIMEZONE
TZID:"America/Chicago"
BEGIN:DAYLIGHT
TZOFFSETFROM:-0600
TZOFFSETTO:-0500
TZNAME:CDT
DTSTART:20230312T080000
END:DAYLIGHT
BEGIN:STANDARD
TZOFFSETFROM:-0500
TZOFFSETTO:-0600
TZNAME:CST
DTSTART:20231105T070000
END:STANDARD
END:VTIMEZONE
BEGIN:VEVENT
DTSTART;TZID="America/Chicago":20230620T133000
DTEND;TZID="America/Chicago":20230620T133000
DTSTAMP:20260419T195116
CREATED:20230321T133555Z
LAST-MODIFIED:20230601T011423Z
UID:805-1687267800-1687267800@doorcountybeekeepersclub.org
SUMMARY:DCBC Meeting: Hive Splitting Field Demonstration - June 10th
DESCRIPTION:Have you ever thought it was time to split one of your hives due to high population – especially in an over-wintered colony? We have had to make a change in our June meeting program and felt it would be timely to do a field demonstration on splitting. This meeting will be held at Mark Lentz’s apiary\, where he and Max will demonstrate splitting over-wintered hives. Time permitting\, we hope to complete two splits. The meeting is being held on a Saturday afternoon to accommodate everyone’s schedule and take advantage of low mid-day hive population. Please note that this field demonstration will replace the regular June 20th evening meeting at the Crossroads. \n1:30 p.m. – Hive Splitting Field Demonstration \nYellow Dog Ranch\n9399 County Road K\nBrussels\, WI 54204 \nDirections\nFrom the North:\nTake Hwy 57 south from Sturgeon Bay approximately 9 miles and turn off at County Road DK. Follow DK past Southern Door School and turn right on County Road K. Our driveway is 4 miles west on K. \nFrom the South:\nFollow Hwy 57 north and turn left on County Road C heading north. Go 5 miles to County Road K and turn right. The driveway will be 1 mile on your right. \nWatch for the club feather banner at the drive and proceed up the lane. Once you arrive\, look for direction and parking signs. The hives are located in pastures\, and you will be able to park close to the demonstration area. We anticipate that this demonstration will last about 90 minutes. It will be an excellent opportunity for hands-on experience. Questions: contact Mark at 920-948-0090 or mclentz55@gmail.com. \n
URL:https://doorcountybeekeepersclub.org/event/dcbc-meeting-hive-splitting-field-demonstration-june-10th/
LOCATION:Yellow Dog Ranch\, 9399 County Road K\, Brussels\, WI\, 54204\, United States
CATEGORIES:Club Meeting
ATTACH;FMTTYPE=image/jpeg:https://doorcountybeekeepersclub.org/site/wp-content/uploads/DCBC-meeting-event.jpg
END:VEVENT
END:VCALENDAR