BEGIN:VCALENDAR
VERSION:2.0
PRODID:-//Door County Beekeepers Club - ECPv4.9.6//NONSGML v1.0//EN
CALSCALE:GREGORIAN
METHOD:PUBLISH
X-WR-CALNAME:Door County Beekeepers Club
X-ORIGINAL-URL:https://doorcountybeekeepersclub.org
X-WR-CALDESC:Events for Door County Beekeepers Club
BEGIN:VTIMEZONE
TZID:"America/Chicago"
BEGIN:DAYLIGHT
TZOFFSETFROM:-0600
TZOFFSETTO:-0500
TZNAME:CDT
DTSTART:20230312T080000
END:DAYLIGHT
BEGIN:STANDARD
TZOFFSETFROM:-0500
TZOFFSETTO:-0600
TZNAME:CST
DTSTART:20231105T070000
END:STANDARD
END:VTIMEZONE
BEGIN:VEVENT
DTSTART;TZID="America/Chicago":20230321T183000
DTEND;TZID="America/Chicago":20230321T183000
DTSTAMP:20260420T004521
CREATED:20230318T195150Z
LAST-MODIFIED:20230318T195150Z
UID:799-1679423400-1679423400@doorcountybeekeepersclub.org
SUMMARY:DCBC Meeting: Dead Hive Scene Investigation – March 21st
DESCRIPTION:Topic: Dead Hive Scene Investigation \nPresenter : Max Martin \n  \n1) Doing a necropsy on a winter dead out hive. It is a process that starts with looking at the hive history from the year before. Then an external evaluation of the hive itself. Then a look inside the hive to do a little Dead Hive Scene Investigation! \n  \n2) Inspection of old hive frames and deciding what is good and what should be replaced.  We will look at cell wall size\, color\, age of wax\, and other things that play into these decisions. \n
URL:https://doorcountybeekeepersclub.org/event/dcbc-meeting-dead-hive-scene-investigation-march-21st/
CATEGORIES:Club Meeting
ATTACH;FMTTYPE=image/jpeg:https://doorcountybeekeepersclub.org/site/wp-content/uploads/DCBC-meeting-event.jpg
END:VEVENT
END:VCALENDAR