BEGIN:VCALENDAR
VERSION:2.0
PRODID:-//Door County Beekeepers Club - ECPv4.9.6//NONSGML v1.0//EN
CALSCALE:GREGORIAN
METHOD:PUBLISH
X-WR-CALNAME:Door County Beekeepers Club
X-ORIGINAL-URL:https://doorcountybeekeepersclub.org
X-WR-CALDESC:Events for Door County Beekeepers Club
BEGIN:VTIMEZONE
TZID:"America/Chicago"
BEGIN:DAYLIGHT
TZOFFSETFROM:-0600
TZOFFSETTO:-0500
TZNAME:CDT
DTSTART:20240310T080000
END:DAYLIGHT
BEGIN:STANDARD
TZOFFSETFROM:-0500
TZOFFSETTO:-0600
TZNAME:CST
DTSTART:20241103T070000
END:STANDARD
END:VTIMEZONE
BEGIN:VEVENT
DTSTART;TZID="America/Chicago":20241015T183000
DTEND;TZID="America/Chicago":20241015T183000
DTSTAMP:20260420T041649
CREATED:20231229T181908Z
LAST-MODIFIED:20241001T184752Z
UID:890-1729017000-1729017000@doorcountybeekeepersclub.org
SUMMARY:DCBC Meeting: Creating Bee Products - October 15
DESCRIPTION:Welcome Visitors – This meeting will be open to the public – we are participating in the Wisconsin Science Festival Week \nTopic: Creating Bee Products – Transforming Honey\, Wax and Equipment.\nPresenter: Various \nHIVE CHEMISTRY 101 \n• MAKING MEAD – a brief introduction into wine making with honey – Dennis and Lynn Marquardt – hosted by Lisa Coggins \n• HOUSEHOLD PRODUCTS – wood conditioner\, food wraps and candles – Max Martin \n• PERSONAL CARE PRODUCTS – lip balm\, lotion bars\, hand salve and soap – Cathy Edmundson \n• HONEY HEATER – how to adapt your own appliance for safely heating honey to clarify cloudy or crystalized honey – Mark Lentz \n• SWARM BOXES – how to build a swarm box to attract and capture a swarm – Ron Miller \n• COOKING WITH HONEY – how to adapt honey to your recipes – Deb Ulrich \n
URL:https://doorcountybeekeepersclub.org/event/dcbc-meeting-creating-bee-products-october-15/
LOCATION:Crossroads at Big Creek\, 2014 Michigan Street\, Sturgeon Bay\, WI\, 54235\, United States
CATEGORIES:Club Meeting
ATTACH;FMTTYPE=image/jpeg:https://doorcountybeekeepersclub.org/site/wp-content/uploads/DCBC-Meeting.jpg
END:VEVENT
END:VCALENDAR