BEGIN:VCALENDAR
VERSION:2.0
PRODID:-//Door County Beekeepers Club - ECPv4.9.6//NONSGML v1.0//EN
CALSCALE:GREGORIAN
METHOD:PUBLISH
X-WR-CALNAME:Door County Beekeepers Club
X-ORIGINAL-URL:https://doorcountybeekeepersclub.org
X-WR-CALDESC:Events for Door County Beekeepers Club
BEGIN:VTIMEZONE
TZID:"America/Chicago"
BEGIN:DAYLIGHT
TZOFFSETFROM:-0600
TZOFFSETTO:-0500
TZNAME:CDT
DTSTART:20240310T080000
END:DAYLIGHT
BEGIN:STANDARD
TZOFFSETFROM:-0500
TZOFFSETTO:-0600
TZNAME:CST
DTSTART:20241103T070000
END:STANDARD
END:VTIMEZONE
BEGIN:VEVENT
DTSTART;TZID="America/Chicago":20240319T183000
DTEND;TZID="America/Chicago":20240319T183000
DTSTAMP:20260419T140204
CREATED:20231229T174637Z
LAST-MODIFIED:20240312T131657Z
UID:876-1710873000-1710873000@doorcountybeekeepersclub.org
SUMMARY:DCBC Meeting: Bee Watch Program - March 19
DESCRIPTION:Topic: Bee Watch program / crop producers collaboration with beekeepers\nPresenter: Mark Feuerstein \nTopics will include registering your hives on the Bee Watch/Field Watch mapping database and methods of communicating with landowners and herbicide/pesticide applicators to protect bees and working hives. \n
URL:https://doorcountybeekeepersclub.org/event/dcbc-meeting-bee-watch-program-march-19/
LOCATION:Crossroads at Big Creek\, 2014 Michigan Street\, Sturgeon Bay\, WI\, 54235\, United States
CATEGORIES:Club Meeting
ATTACH;FMTTYPE=image/jpeg:https://doorcountybeekeepersclub.org/site/wp-content/uploads/DCBC-Meeting.jpg
END:VEVENT
END:VCALENDAR