BEGIN:VCALENDAR
VERSION:2.0
PRODID:-//Door County Beekeepers Club - ECPv4.9.6//NONSGML v1.0//EN
CALSCALE:GREGORIAN
METHOD:PUBLISH
X-WR-CALNAME:Door County Beekeepers Club
X-ORIGINAL-URL:https://doorcountybeekeepersclub.org
X-WR-CALDESC:Events for Door County Beekeepers Club
BEGIN:VTIMEZONE
TZID:"America/Chicago"
BEGIN:DAYLIGHT
TZOFFSETFROM:-0600
TZOFFSETTO:-0500
TZNAME:CDT
DTSTART:20220313T080000
END:DAYLIGHT
BEGIN:STANDARD
TZOFFSETFROM:-0500
TZOFFSETTO:-0600
TZNAME:CST
DTSTART:20221106T070000
END:STANDARD
END:VTIMEZONE
BEGIN:VEVENT
DTSTART;TZID="America/Chicago":20220419T183000
DTEND;TZID="America/Chicago":20220419T183000
DTSTAMP:20260422T171229
CREATED:20220408T214717Z
LAST-MODIFIED:20220415T175155Z
UID:729-1650393000-1650393000@doorcountybeekeepersclub.org
SUMMARY:DCBC Meeting: Bee Installation – April 19
DESCRIPTION:Topic: Bee Installation\nGuest Speaker: Max Martin \nMax will talk about installing packages and nucs. Different methods and ideas.  What the hive should look like when done.  Feeding both sugar water and pollen patties.  Mite checks and treatment of overwintered hives\, new packages and nucs. \nHive Dive \n
URL:https://doorcountybeekeepersclub.org/event/dcbc-meeting-bee-installation-april-19/
LOCATION:Crossroads at Big Creek\, 2014 Michigan Street\, Sturgeon Bay\, WI\, 54235\, United States
CATEGORIES:Club Meeting
ATTACH;FMTTYPE=image/jpeg:https://doorcountybeekeepersclub.org/site/wp-content/uploads/DCBC-meeting-event.jpg
END:VEVENT
END:VCALENDAR