BEGIN:VCALENDAR
VERSION:2.0
PRODID:-//Door County Beekeepers Club - ECPv4.9.6//NONSGML v1.0//EN
CALSCALE:GREGORIAN
METHOD:PUBLISH
X-WR-CALNAME:Door County Beekeepers Club
X-ORIGINAL-URL:https://doorcountybeekeepersclub.org
X-WR-CALDESC:Events for Door County Beekeepers Club
BEGIN:VTIMEZONE
TZID:"America/Chicago"
BEGIN:DAYLIGHT
TZOFFSETFROM:-0600
TZOFFSETTO:-0500
TZNAME:CDT
DTSTART:20240310T080000
END:DAYLIGHT
BEGIN:STANDARD
TZOFFSETFROM:-0500
TZOFFSETTO:-0600
TZNAME:CST
DTSTART:20241103T070000
END:STANDARD
END:VTIMEZONE
BEGIN:VEVENT
DTSTART;TZID="America/Chicago":20240824T090000
DTEND;TZID="America/Chicago":20240824T120000
DTSTAMP:20260420T004133
CREATED:20231229T182452Z
LAST-MODIFIED:20240809T143238Z
UID:894-1724490000-1724500800@doorcountybeekeepersclub.org
SUMMARY:DCBC Club Event: Community Honey Harvest - August 24
DESCRIPTION:Community Honey Harvest Event – Interactive! \n0900: Event Open\n– Welcome Table/Map\n– Pollinators\n– Observation Hives\n– Shop the Hive\n– Honey Bee Products\n– Children’s Activities\n– Movie\n– Honey Extraction\n0930: Flow Hive\n1000: Langstroth\n1030: Flow Hive\n1100: Langstroth\n1145: Drawing\n1200: Event Closed \n2024 Community Honey Harvest Flyer (PDF) \n
URL:https://doorcountybeekeepersclub.org/event/dcbc-club-event-community-honey-harvest-august-24/
LOCATION:Crossroads at Big Creek\, 2014 Michigan Street\, Sturgeon Bay\, WI\, 54235\, United States
CATEGORIES:Club Event
ATTACH;FMTTYPE=image/jpeg:https://doorcountybeekeepersclub.org/site/wp-content/uploads/2024-community-honey-harvest-300.jpg
END:VEVENT
END:VCALENDAR