BEGIN:VCALENDAR
VERSION:2.0
PRODID:-//Door County Beekeepers Club - ECPv4.9.6//NONSGML v1.0//EN
CALSCALE:GREGORIAN
METHOD:PUBLISH
X-WR-CALNAME:Door County Beekeepers Club
X-ORIGINAL-URL:https://doorcountybeekeepersclub.org
X-WR-CALDESC:Events for Door County Beekeepers Club
BEGIN:VTIMEZONE
TZID:"America/Chicago"
BEGIN:DAYLIGHT
TZOFFSETFROM:-0600
TZOFFSETTO:-0500
TZNAME:CDT
DTSTART:20240310T080000
END:DAYLIGHT
BEGIN:STANDARD
TZOFFSETFROM:-0500
TZOFFSETTO:-0600
TZNAME:CST
DTSTART:20241103T070000
END:STANDARD
END:VTIMEZONE
BEGIN:VEVENT
DTSTART;TZID="America/Chicago":20240120T080000
DTEND;TZID="America/Chicago":20240120T120000
DTSTAMP:20260419T124230
CREATED:20231229T184714Z
LAST-MODIFIED:20231229T184714Z
UID:896-1705737600-1705752000@doorcountybeekeepersclub.org
SUMMARY:DCBC Class: Intro to Beekeeping – January 20
DESCRIPTION:Intro to Beekeeping\nSaturday\, January 20\, 2024\n8:00 am – 12:00 pm \n$25.00 Individual / $40.00 Couple \nThe Door County Beekeepers Club is hosting an informative\, interactive workshop on January 20th\, 8 am – 12 pm\, to teach participants about basic equipment\, tools and techniques; how to choose the best hive location; how to obtain and install bees; and what to expect during the first year of beekeeping. All participants will receive half off a yearly DCBC membership. \nThe workshop will be held at Crossroads at Big Creek\, 2041 Michigan St. in Sturgeon Bay. To register\, email contact@doorcountybeekeepersclub.org. \nThe $25 for individuals and $40 for couples workshop fee partly supports restoration and pollinator plantings at Crossroads. \n
URL:https://doorcountybeekeepersclub.org/event/dcbc-class-intro-to-beekeeping-january-20/
LOCATION:Crossroads at Big Creek\, 2014 Michigan Street\, Sturgeon Bay\, WI\, 54235\, United States
CATEGORIES:Club Event
ATTACH;FMTTYPE=image/jpeg:https://doorcountybeekeepersclub.org/site/wp-content/uploads/Beekeeping-Class.jpg
END:VEVENT
END:VCALENDAR