BEGIN:VCALENDAR
VERSION:2.0
PRODID:-//Door County Beekeepers Club - ECPv4.9.6//NONSGML v1.0//EN
CALSCALE:GREGORIAN
METHOD:PUBLISH
X-WR-CALNAME:Door County Beekeepers Club
X-ORIGINAL-URL:https://doorcountybeekeepersclub.org
X-WR-CALDESC:Events for Door County Beekeepers Club
BEGIN:VTIMEZONE
TZID:"America/Chicago"
BEGIN:DAYLIGHT
TZOFFSETFROM:-0600
TZOFFSETTO:-0500
TZNAME:CDT
DTSTART:20260308T080000
END:DAYLIGHT
BEGIN:STANDARD
TZOFFSETFROM:-0500
TZOFFSETTO:-0600
TZNAME:CST
DTSTART:20261101T070000
END:STANDARD
END:VTIMEZONE
BEGIN:VEVENT
DTSTART;TZID="America/Chicago":20260124T080000
DTEND;TZID="America/Chicago":20260124T120000
DTSTAMP:20260421T122859
CREATED:20260102T225558Z
LAST-MODIFIED:20260102T225805Z
UID:1100-1769241600-1769256000@doorcountybeekeepersclub.org
SUMMARY:2026 Beginning Beekeeping  Class
DESCRIPTION:Do you like the sweet taste of natural\, local honey? Are you interested in gardening\, pollinators\, or science? Have you ever wondered what honey bees do to survive the cold winter months in Door County? The Door County Beekeepers Club will host a Beginning Beekeeping Class on Saturday\, January 24th\, at the Peninsular Ag Research Station\, 4312 HWY 42\, Sturgeon Bay\, WI 54235. The class will be held from 8:00 AM to 1200 PM. \nFor those interested in the fascinating hobby of honeybees and honey production\, this class will provide a general overview of the hobby and discuss equipment\, how to obtain bees\, colony management\, and hive components. \nThe class is open to all ages and has a registration fee of $25 per individual or $40 per family\, and is payable at the class. Materials and information will be provided to all participants\, and also includes a 1-year membership in the Door County Beekeepers Club. You can register for the class by emailing the club at contact@doorcountybeekeepersclub.org or calling Max Martin at (920) 495-8457\, Jonathan Parsons at (321) 794-4130\, or Len Arsenault at (781) 698-6036. It is highly encouraged to register in advance\, and registration will also be available on the day of the class. \n
URL:https://doorcountybeekeepersclub.org/event/2026-beginning-beekeeping-class/
LOCATION:Peninsular Agricultural Research Station\, 4312 WI-42\, Sturgeon Bay\, WI\, 54235\, United States
CATEGORIES:Beekeeping,Club Event
ATTACH;FMTTYPE=image/jpeg:https://doorcountybeekeepersclub.org/site/wp-content/uploads/beekeeping-class.jpg
END:VEVENT
END:VCALENDAR